BEGIN:VCALENDAR
VERSION:2.0
PRODID:-//Arc Flash &amp; Electrical Power Training | Brainfiller - ECPv6.15.20//NONSGML v1.0//EN
CALSCALE:GREGORIAN
METHOD:PUBLISH
X-WR-CALNAME:Arc Flash &amp; Electrical Power Training | Brainfiller
X-ORIGINAL-URL:https://brainfiller.com
X-WR-CALDESC:Events for Arc Flash &amp; Electrical Power Training | Brainfiller
REFRESH-INTERVAL;VALUE=DURATION:PT1H
X-Robots-Tag:noindex
X-PUBLISHED-TTL:PT1H
BEGIN:VTIMEZONE
TZID:America/Phoenix
BEGIN:STANDARD
TZOFFSETFROM:-0700
TZOFFSETTO:-0700
TZNAME:MST
DTSTART:20250101T000000
END:STANDARD
END:VTIMEZONE
BEGIN:VEVENT
DTSTART;TZID=America/Phoenix:20260427T080000
DTEND;TZID=America/Phoenix:20261105T170000
DTSTAMP:20260425T055515
CREATED:20170728T164748Z
LAST-MODIFIED:20260420T180405Z
UID:4369-1777276800-1793898000@brainfiller.com
SUMMARY:Medium Voltage Power Systems - 16 Hours
DESCRIPTION:
URL:https://brainfiller.com/courses/medium-voltage-power-systems/
LOCATION:Streaming and On Location
CATEGORIES:Electrical Power Training,Scheduled Live Classes
ATTACH;FMTTYPE=image/jpeg:https://brainfiller.com/wp-content/uploads/2020/07/Medium-Voltage.jpg
END:VEVENT
END:VCALENDAR